Workbook

Sheet Instructions LAMB
A1: INSTRUCTIONS for using the LAMB CALCULATOR

Sheet LAMB Calculator
A1: LAMB CALCULATOR
A2: Lamb ID | B2: PROCESS | C2: LIVE | D2: HANGING | E2: Yield % | F2: RACK 204C | I2: DENVER STYLE RIBS 209A | L2: CHOPS 1232A | O2: BONELESS LEG 234A | R2: BONE-IN LEG 233A | U2: LEG STEAK 1233E | X2: LEG KABOB 295A | AA2: SHANKS 233F/210 | AD2: SHOULDER BNLS 208A | AG2: SHOULDER BONE-IN 207 | AJ2: SHOULDER STEAK 1207 | AM2: SHOULDER KABOBS 295A | AP2: GROUND 296 | AS2: STEW 295 | AV2: NECK N/A | AY2: BONES N/A | BB2: ADDITIONAL CUT | BE2: ADDITIONAL CUT | BH2: BOXED | BI2: Cut Out % | BJ2: Gross $ | BK2: Production and | BL2: NET | BM2: NOTES (75 character limit)
B3: DATE (m/d/yy) | C3: WEIGHT | D3: WEIGHT | F3: LBS | G3: $ per/lb | H3: Cut Value | I3: LBS | J3: $ per/lb | K3: Cut Value | L3: LBS | M3: $ per/lb | N3: Cut Value | O3: LBS | P3: $ per/lb | Q3: Cut Value | R3: LBS | S3: $ per/lb | T3: Cut Value | U3: LBS | V3: $ per/lb | W3: Cut Value | X3: LBS | Y3: $ per/lb | Z3: Cut Value | AA3: LBS | AB3: $ per/lb | AC3: Cut Value | AD3: LBS | AE3: $ per/lb | AF3: Cut Value | AG3: LBS | AH3: $ per/lb | AI3: Cut Value | AJ3: LBS | AK3: $ per/lb | AL3: Cut Value | AM3: LBS | AN3: $ per/lb | AO3: Cut Value | AP3: LBS | AQ3: $ per/lb | AR3: Cut Value | AS3: LBS | AT3: $ per/lb | AU3: Cut Value | AV3: LBS | AW3: $ per/lb | AX3: Cut Value | AY3: LBS | AZ3: $ per/lb | BA3: Cut Value | BB3: LBS | BC3: $ per/lb | BD3: Cut Value | BE3: LBS | BF3: $ per/lb | BG3: Cut Value | BH3: Weight | BK3: Market Cost
E4: =IF(D4=0," ",D4/C4) | H4: =IF(F4=0," ",F4*G4) | K4: =IF(I4=0," ",I4*J4) | N4: =IF(L4=0," ",L4*M4) | Q4: =IF(O4=0," ",O4*P4) | T4: =IF(R4=0," ",R4*S4) | W4: =IF(U4=0," ",U4*V4) | Z4: =IF(X4=0," ",X4*Y4) | AC4: =IF(AA4=0," ",AA4*AB4) | AF4: =IF(AD4=0," ",AD4*AE4) | AI4: =IF(AG4=0," ",AG4*AH4) | AL4: =IF(AJ4=0," ",AJ4*AK4) | AO4: =IF(AM4=0," ",AM4*AN4) | AR4: =IF(AP4=0," ",AP4*AQ4) | AU4: =IF(AS4=0," ",AS4*AT4) | AX4: =IF(AV4=0," ",AV4*AW4) | BA4: =IF(AY4=0," ",AY4*AZ4) | BD4: =IF(BB4=0," ",BB4*BC4) | BG4: =IF(BE4=0," ",BE4*BF4) | BH4: =IF(SUM(F4+I4+L4+O4+R4+U4+X4+AA4+AD4+AG4+AJ4+AM4+AP4+AS4+AV4+AY4+BB4+BE4)=0," ",SUM(F4+I4+L4+O4+R4+U4+X4+AA4+AD4+AG4+AJ4+AM4+AP4+AS4+AV4+AY4+BB4+BE4)) | BI4: =IF(D4=0,"",BH4/D4) | BJ4: =IF(SUM(H4,K4,N4,Q4,T4,W4,Z4,AC4,AF4,AI4,AL4,AO4,AR4,AU4,AX4,BA4,BD4,BG4)=0,"",SUM(H4,K4,N4,Q4,T4,W4,Z4,AC4,AF4,AI4,AL4,AO4,AR4,AU4,AX4,BA4,BD4,BG4)) | BL4: =IF(BK4=0,"",BJ4-BK4)
E5: =IF(D5=0," ",D5/C5) | H5: =IF(F5=0," ",F5*G5) | K5: =IF(I5=0," ",I5*J5) | N5: =IF(L5=0," ",L5*M5) | Q5: =IF(O5=0," ",O5*P5) | T5: =IF(R5=0," ",R5*S5) | W5: =IF(U5=0," ",U5*V5) | Z5: =IF(X5=0," ",X5*Y5) | AC5: =IF(AA5=0," ",AA5*AB5) | AF5: =IF(AD5=0," ",AD5*AE5) | AI5: =IF(AG5=0," ",AG5*AH5) | AL5: =IF(AJ5=0," ",AJ5*AK5) | AO5: =IF(AM5=0," ",AM5*AN5) | AR5: =IF(AP5=0," ",AP5*AQ5) | AU5: =IF(AS5=0," ",AS5*AT5) | AX5: =IF(AV5=0," ",AV5*AW5) | BA5: =IF(AY5=0," ",AY5*AZ5) | BD5: =IF(BB5=0," ",BB5*BC5) | BG5: =IF(BE5=0," ",BE5*BF5) | BH5: =IF(SUM(F5+I5+L5+O5+R5+U5+X5+AA5+AD5+AG5+AJ5+AM5+AP5+AS5+AV5+AY5+BB5+BE5)=0," ",SUM(F5+I5+L5+O5+R5+U5+X5+AA5+AD5+AG5+AJ5+AM5+AP5+AS5+AV5+AY5+BB5+BE5)) | BI5: =IF(D5=0,"",BH5/D5) | BJ5: =IF(SUM(H5,K5,N5,Q5,T5,W5,Z5,AC5,AF5,AI5,AL5,AO5,AR5,AU5,AX5,BA5,BD5,BG5)=0,"",SUM(H5,K5,N5,Q5,T5,W5,Z5,AC5,AF5,AI5,AL5,AO5,AR5,AU5,AX5,BA5,BD5,BG5)) | BL5: =IF(BK5=0,"",BJ5-BK5)
E6: =IF(D6=0," ",D6/C6) | H6: =IF(F6=0," ",F6*G6) | K6: =IF(I6=0," ",I6*J6) | N6: =IF(L6=0," ",L6*M6) | Q6: =IF(O6=0," ",O6*P6) | T6: =IF(R6=0," ",R6*S6) | W6: =IF(U6=0," ",U6*V6) | Z6: =IF(X6=0," ",X6*Y6) | AC6: =IF(AA6=0," ",AA6*AB6) | AF6: =IF(AD6=0," ",AD6*AE6) | AI6: =IF(AG6=0," ",AG6*AH6) | AL6: =IF(AJ6=0," ",AJ6*AK6) | AO6: =IF(AM6=0," ",AM6*AN6) | AR6: =IF(AP6=0," ",AP6*AQ6) | AU6: =IF(AS6=0," ",AS6*AT6) | AX6: =IF(AV6=0," ",AV6*AW6) | BA6: =IF(AY6=0," ",AY6*AZ6) | BD6: =IF(BB6=0," ",BB6*BC6) | BG6: =IF(BE6=0," ",BE6*BF6) | BH6: =IF(SUM(F6+I6+L6+O6+R6+U6+X6+AA6+AD6+AG6+AJ6+AM6+AP6+AS6+AV6+AY6+BB6+BE6)=0," ",SUM(F6+I6+L6+O6+R6+U6+X6+AA6+AD6+AG6+AJ6+AM6+AP6+AS6+AV6+AY6+BB6+BE6)) | BI6: =IF(D6=0,"",BH6/D6) | BJ6: =IF(SUM(H6,K6,N6,Q6,T6,W6,Z6,AC6,AF6,AI6,AL6,AO6,AR6,AU6,AX6,BA6,BD6,BG6)=0,"",SUM(H6,K6,N6,Q6,T6,W6,Z6,AC6,AF6,AI6,AL6,AO6,AR6,AU6,AX6,BA6,BD6,BG6)) | BL6: =IF(BK6=0,"",BJ6-BK6)
E7: =IF(D7=0," ",D7/C7) | H7: =IF(F7=0," ",F7*G7) | K7: =IF(I7=0," ",I7*J7) | N7: =IF(L7=0," ",L7*M7) | Q7: =IF(O7=0," ",O7*P7) | T7: =IF(R7=0," ",R7*S7) | W7: =IF(U7=0," ",U7*V7) | Z7: =IF(X7=0," ",X7*Y7) | AC7: =IF(AA7=0," ",AA7*AB7) | AF7: =IF(AD7=0," ",AD7*AE7) | AI7: =IF(AG7=0," ",AG7*AH7) | AL7: =IF(AJ7=0," ",AJ7*AK7) | AO7: =IF(AM7=0," ",AM7*AN7) | AR7: =IF(AP7=0," ",AP7*AQ7) | AU7: =IF(AS7=0," ",AS7*AT7) | AX7: =IF(AV7=0," ",AV7*AW7) | BA7: =IF(AY7=0," ",AY7*AZ7) | BD7: =IF(BB7=0," ",BB7*BC7) | BG7: =IF(BE7=0," ",BE7*BF7) | BH7: =IF(SUM(F7+I7+L7+O7+R7+U7+X7+AA7+AD7+AG7+AJ7+AM7+AP7+AS7+AV7+AY7+BB7+BE7)=0," ",SUM(F7+I7+L7+O7+R7+U7+X7+AA7+AD7+AG7+AJ7+AM7+AP7+AS7+AV7+AY7+BB7+BE7)) | BI7: =IF(D7=0,"",BH7/D7) | BJ7: =IF(SUM(H7,K7,N7,Q7,T7,W7,Z7,AC7,AF7,AI7,AL7,AO7,AR7,AU7,AX7,BA7,BD7,BG7)=0,"",SUM(H7,K7,N7,Q7,T7,W7,Z7,AC7,AF7,AI7,AL7,AO7,AR7,AU7,AX7,BA7,BD7,BG7)) | BL7: =IF(BK7=0,"",BJ7-BK7)
E8: =IF(D8=0," ",D8/C8) | H8: =IF(F8=0," ",F8*G8) | K8: =IF(I8=0," ",I8*J8) | N8: =IF(L8=0," ",L8*M8) | Q8: =IF(O8=0," ",O8*P8) | T8: =IF(R8=0," ",R8*S8) | W8: =IF(U8=0," ",U8*V8) | Z8: =IF(X8=0," ",X8*Y8) | AC8: =IF(AA8=0," ",AA8*AB8) | AF8: =IF(AD8=0," ",AD8*AE8) | AI8: =IF(AG8=0," ",AG8*AH8) | AL8: =IF(AJ8=0," ",AJ8*AK8) | AO8: =IF(AM8=0," ",AM8*AN8) | AR8: =IF(AP8=0," ",AP8*AQ8) | AU8: =IF(AS8=0," ",AS8*AT8) | AX8: =IF(AV8=0," ",AV8*AW8) | BA8: =IF(AY8=0," ",AY8*AZ8) | BD8: =IF(BB8=0," ",BB8*BC8) | BG8: =IF(BE8=0," ",BE8*BF8) | BH8: =IF(SUM(F8+I8+L8+O8+R8+U8+X8+AA8+AD8+AG8+AJ8+AM8+AP8+AS8+AV8+AY8+BB8+BE8)=0," ",SUM(F8+I8+L8+O8+R8+U8+X8+AA8+AD8+AG8+AJ8+AM8+AP8+AS8+AV8+AY8+BB8+BE8)) | BI8: =IF(D8=0,"",BH8/D8) | BJ8: =IF(SUM(H8,K8,N8,Q8,T8,W8,Z8,AC8,AF8,AI8,AL8,AO8,AR8,AU8,AX8,BA8,BD8,BG8)=0,"",SUM(H8,K8,N8,Q8,T8,W8,Z8,AC8,AF8,AI8,AL8,AO8,AR8,AU8,AX8,BA8,BD8,BG8)) | BL8: =IF(BK8=0,"",BJ8-BK8)
E9: =IF(D9=0," ",D9/C9) | H9: =IF(F9=0," ",F9*G9) | K9: =IF(I9=0," ",I9*J9) | N9: =IF(L9=0," ",L9*M9) | Q9: =IF(O9=0," ",O9*P9) | T9: =IF(R9=0," ",R9*S9) | W9: =IF(U9=0," ",U9*V9) | Z9: =IF(X9=0," ",X9*Y9) | AC9: =IF(AA9=0," ",AA9*AB9) | AF9: =IF(AD9=0," ",AD9*AE9) | AI9: =IF(AG9=0," ",AG9*AH9) | AL9: =IF(AJ9=0," ",AJ9*AK9) | AO9: =IF(AM9=0," ",AM9*AN9) | AR9: =IF(AP9=0," ",AP9*AQ9) | AU9: =IF(AS9=0," ",AS9*AT9) | AX9: =IF(AV9=0," ",AV9*AW9) | BA9: =IF(AY9=0," ",AY9*AZ9) | BD9: =IF(BB9=0," ",BB9*BC9) | BG9: =IF(BE9=0," ",BE9*BF9) | BH9: =IF(SUM(F9+I9+L9+O9+R9+U9+X9+AA9+AD9+AG9+AJ9+AM9+AP9+AS9+AV9+AY9+BB9+BE9)=0," ",SUM(F9+I9+L9+O9+R9+U9+X9+AA9+AD9+AG9+AJ9+AM9+AP9+AS9+AV9+AY9+BB9+BE9)) | BI9: =IF(D9=0,"",BH9/D9) | BJ9: =IF(SUM(H9,K9,N9,Q9,T9,W9,Z9,AC9,AF9,AI9,AL9,AO9,AR9,AU9,AX9,BA9,BD9,BG9)=0,"",SUM(H9,K9,N9,Q9,T9,W9,Z9,AC9,AF9,AI9,AL9,AO9,AR9,AU9,AX9,BA9,BD9,BG9)) | BL9: =IF(BK9=0,"",BJ9-BK9)
E10: =IF(D10=0," ",D10/C10) | H10: =IF(F10=0," ",F10*G10) | K10: =IF(I10=0," ",I10*J10) | N10: =IF(L10=0," ",L10*M10) | Q10: =IF(O10=0," ",O10*P10) | T10: =IF(R10=0," ",R10*S10) | W10: =IF(U10=0," ",U10*V10) | Z10: =IF(X10=0," ",X10*Y10) | AC10: =IF(AA10=0," ",AA10*AB10) | AF10: =IF(AD10=0," ",AD10*AE10) | AI10: =IF(AG10=0," ",AG10*AH10) | AL10: =IF(AJ10=0," ",AJ10*AK10) | AO10: =IF(AM10=0," ",AM10*AN10) | AR10: =IF(AP10=0," ",AP10*AQ10) | AU10: =IF(AS10=0," ",AS10*AT10) | AX10: =IF(AV10=0," ",AV10*AW10) | BA10: =IF(AY10=0," ",AY10*AZ10) | BD10: =IF(BB10=0," ",BB10*BC10) | BG10: =IF(BE10=0," ",BE10*BF10) | BH10: =IF(SUM(F10+I10+L10+O10+R10+U10+X10+AA10+AD10+AG10+AJ10+AM10+AP10+AS10+AV10+AY10+BB10+BE10)=0," ",SUM(F10+I10+L10+O10+R10+U10+X10+AA10+AD10+AG10+AJ10+AM10+AP10+AS10+AV10+AY10+BB10+BE10)) | BI10: =IF(D10=0,"",BH10/D10) | BJ10: =IF(SUM(H10,K10,N10,Q10,T10,W10,Z10,AC10,AF10,AI10,AL10,AO10,AR10,AU10,AX10,BA10,BD10,BG10)=0,"",SUM(H10,K10,N10,Q10,T10,W10,Z10,AC10,AF10,AI10,AL10,AO10,AR10,AU10,AX10,BA10,BD10,BG10)) | BL10: =IF(BK10=0,"",BJ10-BK10)
E11: =IF(D11=0," ",D11/C11) | H11: =IF(F11=0," ",F11*G11) | K11: =IF(I11=0," ",I11*J11) | N11: =IF(L11=0," ",L11*M11) | Q11: =IF(O11=0," ",O11*P11) | T11: =IF(R11=0," ",R11*S11) | W11: =IF(U11=0," ",U11*V11) | Z11: =IF(X11=0," ",X11*Y11) | AC11: =IF(AA11=0," ",AA11*AB11) | AF11: =IF(AD11=0," ",AD11*AE11) | AI11: =IF(AG11=0," ",AG11*AH11) | AL11: =IF(AJ11=0," ",AJ11*AK11) | AO11: =IF(AM11=0," ",AM11*AN11) | AR11: =IF(AP11=0," ",AP11*AQ11) | AU11: =IF(AS11=0," ",AS11*AT11) | AX11: =IF(AV11=0," ",AV11*AW11) | BA11: =IF(AY11=0," ",AY11*AZ11) | BD11: =IF(BB11=0," ",BB11*BC11) | BG11: =IF(BE11=0," ",BE11*BF11) | BH11: =IF(SUM(F11+I11+L11+O11+R11+U11+X11+AA11+AD11+AG11+AJ11+AM11+AP11+AS11+AV11+AY11+BB11+BE11)=0," ",SUM(F11+I11+L11+O11+R11+U11+X11+AA11+AD11+AG11+AJ11+AM11+AP11+AS11+AV11+AY11+BB11+BE11)) | BI11: =IF(D11=0,"",BH11/D11) | BJ11: =IF(SUM(H11,K11,N11,Q11,T11,W11,Z11,AC11,AF11,AI11,AL11,AO11,AR11,AU11,AX11,BA11,BD11,BG11)=0,"",SUM(H11,K11,N11,Q11,T11,W11,Z11,AC11,AF11,AI11,AL11,AO11,AR11,AU11,AX11,BA11,BD11,BG11)) | BL11: =IF(BK11=0,"",BJ11-BK11)
E12: =IF(D12=0," ",D12/C12) | H12: =IF(F12=0," ",F12*G12) | K12: =IF(I12=0," ",I12*J12) | N12: =IF(L12=0," ",L12*M12) | Q12: =IF(O12=0," ",O12*P12) | T12: =IF(R12=0," ",R12*S12) | W12: =IF(U12=0," ",U12*V12) | Z12: =IF(X12=0," ",X12*Y12) | AC12: =IF(AA12=0," ",AA12*AB12) | AF12: =IF(AD12=0," ",AD12*AE12) | AI12: =IF(AG12=0," ",AG12*AH12) | AL12: =IF(AJ12=0," ",AJ12*AK12) | AO12: =IF(AM12=0," ",AM12*AN12) | AR12: =IF(AP12=0," ",AP12*AQ12) | AU12: =IF(AS12=0," ",AS12*AT12) | AX12: =IF(AV12=0," ",AV12*AW12) | BA12: =IF(AY12=0," ",AY12*AZ12) | BD12: =IF(BB12=0," ",BB12*BC12) | BG12: =IF(BE12=0," ",BE12*BF12) | BH12: =IF(SUM(F12+I12+L12+O12+R12+U12+X12+AA12+AD12+AG12+AJ12+AM12+AP12+AS12+AV12+AY12+BB12+BE12)=0," ",SUM(F12+I12+L12+O12+R12+U12+X12+AA12+AD12+AG12+AJ12+AM12+AP12+AS12+AV12+AY12+BB12+BE12)) | BI12: =IF(D12=0,"",BH12/D12) | BJ12: =IF(SUM(H12,K12,N12,Q12,T12,W12,Z12,AC12,AF12,AI12,AL12,AO12,AR12,AU12,AX12,BA12,BD12,BG12)=0,"",SUM(H12,K12,N12,Q12,T12,W12,Z12,AC12,AF12,AI12,AL12,AO12,AR12,AU12,AX12,BA12,BD12,BG12)) | BL12: =IF(BK12=0,"",BJ12-BK12)
E13: =IF(D13=0," ",D13/C13) | H13: =IF(F13=0," ",F13*G13) | K13: =IF(I13=0," ",I13*J13) | N13: =IF(L13=0," ",L13*M13) | Q13: =IF(O13=0," ",O13*P13) | T13: =IF(R13=0," ",R13*S13) | W13: =IF(U13=0," ",U13*V13) | Z13: =IF(X13=0," ",X13*Y13) | AC13: =IF(AA13=0," ",AA13*AB13) | AF13: =IF(AD13=0," ",AD13*AE13) | AI13: =IF(AG13=0," ",AG13*AH13) | AL13: =IF(AJ13=0," ",AJ13*AK13) | AO13: =IF(AM13=0," ",AM13*AN13) | AR13: =IF(AP13=0," ",AP13*AQ13) | AU13: =IF(AS13=0," ",AS13*AT13) | AX13: =IF(AV13=0," ",AV13*AW13) | BA13: =IF(AY13=0," ",AY13*AZ13) | BD13: =IF(BB13=0," ",BB13*BC13) | BG13: =IF(BE13=0," ",BE13*BF13) | BH13: =IF(SUM(F13+I13+L13+O13+R13+U13+X13+AA13+AD13+AG13+AJ13+AM13+AP13+AS13+AV13+AY13+BB13+BE13)=0," ",SUM(F13+I13+L13+O13+R13+U13+X13+AA13+AD13+AG13+AJ13+AM13+AP13+AS13+AV13+AY13+BB13+BE13)) | BI13: =IF(D13=0,"",BH13/D13) | BJ13: =IF(SUM(H13,K13,N13,Q13,T13,W13,Z13,AC13,AF13,AI13,AL13,AO13,AR13,AU13,AX13,BA13,BD13,BG13)=0,"",SUM(H13,K13,N13,Q13,T13,W13,Z13,AC13,AF13,AI13,AL13,AO13,AR13,AU13,AX13,BA13,BD13,BG13)) | BL13: =IF(BK13=0,"",BJ13-BK13)
E14: =IF(D14=0," ",D14/C14) | H14: =IF(F14=0," ",F14*G14) | K14: =IF(I14=0," ",I14*J14) | N14: =IF(L14=0," ",L14*M14) | Q14: =IF(O14=0," ",O14*P14) | T14: =IF(R14=0," ",R14*S14) | W14: =IF(U14=0," ",U14*V14) | Z14: =IF(X14=0," ",X14*Y14) | AC14: =IF(AA14=0," ",AA14*AB14) | AF14: =IF(AD14=0," ",AD14*AE14) | AI14: =IF(AG14=0," ",AG14*AH14) | AL14: =IF(AJ14=0," ",AJ14*AK14) | AO14: =IF(AM14=0," ",AM14*AN14) | AR14: =IF(AP14=0," ",AP14*AQ14) | AU14: =IF(AS14=0," ",AS14*AT14) | AX14: =IF(AV14=0," ",AV14*AW14) | BA14: =IF(AY14=0," ",AY14*AZ14) | BD14: =IF(BB14=0," ",BB14*BC14) | BG14: =IF(BE14=0," ",BE14*BF14) | BH14: =IF(SUM(F14+I14+L14+O14+R14+U14+X14+AA14+AD14+AG14+AJ14+AM14+AP14+AS14+AV14+AY14+BB14+BE14)=0," ",SUM(F14+I14+L14+O14+R14+U14+X14+AA14+AD14+AG14+AJ14+AM14+AP14+AS14+AV14+AY14+BB14+BE14)) | BI14: =IF(D14=0,"",BH14/D14) | BJ14: =IF(SUM(H14,K14,N14,Q14,T14,W14,Z14,AC14,AF14,AI14,AL14,AO14,AR14,AU14,AX14,BA14,BD14,BG14)=0,"",SUM(H14,K14,N14,Q14,T14,W14,Z14,AC14,AF14,AI14,AL14,AO14,AR14,AU14,AX14,BA14,BD14,BG14)) | BL14: =IF(BK14=0,"",BJ14-BK14)
E15: =IF(D15=0," ",D15/C15) | H15: =IF(F15=0," ",F15*G15) | K15: =IF(I15=0," ",I15*J15) | N15: =IF(L15=0," ",L15*M15) | Q15: =IF(O15=0," ",O15*P15) | T15: =IF(R15=0," ",R15*S15) | W15: =IF(U15=0," ",U15*V15) | Z15: =IF(X15=0," ",X15*Y15) | AC15: =IF(AA15=0," ",AA15*AB15) | AF15: =IF(AD15=0," ",AD15*AE15) | AI15: =IF(AG15=0," ",AG15*AH15) | AL15: =IF(AJ15=0," ",AJ15*AK15) | AO15: =IF(AM15=0," ",AM15*AN15) | AR15: =IF(AP15=0," ",AP15*AQ15) | AU15: =IF(AS15=0," ",AS15*AT15) | AX15: =IF(AV15=0," ",AV15*AW15) | BA15: =IF(AY15=0," ",AY15*AZ15) | BD15: =IF(BB15=0," ",BB15*BC15) | BG15: =IF(BE15=0," ",BE15*BF15) | BH15: =IF(SUM(F15+I15+L15+O15+R15+U15+X15+AA15+AD15+AG15+AJ15+AM15+AP15+AS15+AV15+AY15+BB15+BE15)=0," ",SUM(F15+I15+L15+O15+R15+U15+X15+AA15+AD15+AG15+AJ15+AM15+AP15+AS15+AV15+AY15+BB15+BE15)) | BI15: =IF(D15=0,"",BH15/D15) | BJ15: =IF(SUM(H15,K15,N15,Q15,T15,W15,Z15,AC15,AF15,AI15,AL15,AO15,AR15,AU15,AX15,BA15,BD15,BG15)=0,"",SUM(H15,K15,N15,Q15,T15,W15,Z15,AC15,AF15,AI15,AL15,AO15,AR15,AU15,AX15,BA15,BD15,BG15)) | BL15: =IF(BK15=0,"",BJ15-BK15)
... E501: =IF(D501=0," ",D501/C501) | H501: =IF(F501=0," ",F501*G501) | K501: =IF(I501=0," ",I501*J501) | N501: =IF(L501=0," ",L501*M501) | Q501: =IF(O501=0," ",O501*P501) | T501: =IF(R501=0," ",R501*S501) | W501: =IF(U501=0," ",U501*V501) | Z501: =IF(X501=0," ",X501*Y501) | AC501: =IF(AA501=0," ",AA501*AB501) | AF501: =IF(AD501=0," ",AD501*AE501) | AI501: =IF(AG501=0," ",AG501*AH501) | AL501: =IF(AJ501=0," ",AJ501*AK501) | AO501: =IF(AM501=0," ",AM501*AN501) | AR501: =IF(AP501=0," ",AP501*AQ501) | AU501: =IF(AS501=0," ",AS501*AT501) | AX501: =IF(AV501=0," ",AV501*AW501) | BA501: =IF(AY501=0," ",AY501*AZ501) | BD501: =IF(BB501=0," ",BB501*BC501) | BG501: =IF(BE501=0," ",BE501*BF501) | BH501: =IF(SUM(F501+I501+L501+O501+R501+U501+X501+AA501+AD501+AG501+AJ501+AM501+AP501+AS501+AV501+AY501+BB501+BE501)=0," ",SUM(F501+I501+L501+O501+R501+U501+X501+AA501+AD501+AG501+AJ501+AM501+AP501+AS501+AV501+AY501+BB501+BE501)) | BI501: =IF(D501=0,"",BH501/D501) | BJ501: =IF(SUM(H501,K501,N501,Q501,T501,W501,Z501,AC501,AF501,AI501,AL501,AO501,AR501,AU501,AX501,BA501,BD501,BG501)=0,"",SUM(H501,K501,N501,Q501,T501,W501,Z501,AC501,AF501,AI501,AL501,AO501,AR501,AU501,AX501,BA501,BD501,BG501)) | BL501: =IF(BK501=0,"",BJ501-BK501)
A502: =COUNTA(A4:A501) -> 0 | B502: TOTAL LAMBS
A503: AVERAGE | C503: =IF(SUM(C4:C501)=0," ",AVERAGE(C4:C501)) | D503: =IF(SUM(D4:D501)=0," ",AVERAGE(D4:D501)) | E503: =IF(SUM(E4:E501)=0," ",AVERAGE(E4:E501)) | F503: =IF(SUM(F4:F501)=0," ",AVERAGE(F4:F501)) | G503: =IF(SUM(G4:G501)=0," ",AVERAGE(G4:G501)) | H503: =IF(SUM(H4:H501)=0," ",AVERAGE(H4:H501)) | I503: =IF(SUM(I4:I501)=0," ",AVERAGE(I4:I501)) | J503: =IF(SUM(J4:J501)=0," ",AVERAGE(J4:J501)) | ... BG503: =IF(SUM(BG4:BG501)=0," ",AVERAGE(BG4:BG501)) | BH503: =IF(SUM(BH4:BH501)=0,0,AVERAGE(BH4:BH501)) -> 0 | BI503: =IF(SUM(BI4:BI501)=0,0,AVERAGE(BI4:BI501)) -> 0 | BJ503: =IF(SUM(BJ4:BJ501)=0,0,AVERAGE(BJ4:BJ501)) -> 0 | BK503: =IF(SUM(BK4:BK501)=0,0,AVERAGE(BK4:BK501)) -> 0 | BL503: =IF(SUM(BL4:BL501)=0,0,AVERAGE(BL4:BL501)) -> 0
A505: TOTALS | C505: =SUM(C4:C501) -> 0 | D505: =SUM(D4:D501) -> 0 | E505: =IF(C505=0,0,D505/C505) -> 0 | F505: =SUM(F4:F501) -> 0 | H505: =SUM(H4:H501) -> 0 | I505: =SUM(I4:I501) -> 0 | K505: =SUM(K4:K501) -> 0 | L505: =SUM(L4:L501) -> 0 | N505: =SUM(N4:N501) -> 0 | O505: =SUM(O4:O501) -> 0 | Q505: =SUM(Q4:Q501) -> 0 | R505: =SUM(R4:R501) -> 0 | T505: =SUM(T4:T501) -> 0 | U505: =SUM(U4:U501) -> 0 | W505: =SUM(W4:W501) -> 0 | X505: =SUM(X4:X501) -> 0 | Z505: =SUM(Z4:Z501) -> 0 | AA505: =SUM(AA4:AA501) -> 0 | AC505: =SUM(AC4:AC501) -> 0 | AD505: =SUM(AD4:AD501) -> 0 | AF505: =SUM(AF4:AF501) -> 0 | AG505: =SUM(AG4:AG501) -> 0 | AI505: =SUM(AI4:AI501) -> 0 | AJ505: =SUM(AJ4:AJ501) -> 0 | AL505: =SUM(AL4:AL501) -> 0 | AM505: =SUM(AM4:AM501) -> 0 | AO505: =SUM(AO4:AO501) -> 0 | AP505: =SUM(AP4:AP501) -> 0 | AR505: =SUM(AR4:AR501) -> 0 | AS505: =SUM(AS4:AS501) -> 0 | AU505: =SUM(AU4:AU501) -> 0 | AV505: =SUM(AV4:AV501) -> 0 | AX505: =SUM(AX4:AX501) -> 0 | AY505: =SUM(AY4:AY501) -> 0 | BA505: =SUM(BA4:BA501) -> 0 | BB505: =SUM(BB4:BB501) -> 0 | BD505: =SUM(BD4:BD501) -> 0 | BE505: =SUM(BE4:BE501) -> 0 | BG505: =SUM(BG4:BG501) -> 0 | BH505: =SUM(BH4:BH501) -> 0 | BJ505: =SUM(BJ4:BJ501) -> 0 | BK505: =SUM(BK4:BK501) -> 0 | BL505: =SUM(BL4:BL501) -> 0

Sheet TOTALS
B1: TOTALS
A2: CUT | B2: Total Pounds | C2: Cut Value $
A3: Rack | B3: =IF('LAMB Calculator'!F505=0," ",'LAMB Calculator'!F505) | C3: =IF('LAMB Calculator'!H505=0," ",'LAMB Calculator'!H505)
A4: Denver Style Ribs | B4: =IF('LAMB Calculator'!I505=0," ",'LAMB Calculator'!I505) | C4: =IF('LAMB Calculator'!K505=0," ",'LAMB Calculator'!K505)
A5: Chops | B5: =IF('LAMB Calculator'!L505=0," ",'LAMB Calculator'!L505) | C5: =IF('LAMB Calculator'!N505=0," ",'LAMB Calculator'!N505)
A6: Boneless Leg | B6: =IF('LAMB Calculator'!O505=0," ",'LAMB Calculator'!O505) | C6: =IF('LAMB Calculator'!Q505=0," ",'LAMB Calculator'!Q505)
A7: Bone in Leg | B7: =IF('LAMB Calculator'!R505=0," ",'LAMB Calculator'!R505) | C7: =IF('LAMB Calculator'!T505=0," ",'LAMB Calculator'!T505)
A8: Leg Steak | B8: =IF('LAMB Calculator'!U505=0," ",'LAMB Calculator'!U505) | C8: =IF('LAMB Calculator'!W505=0," ",'LAMB Calculator'!W505)
A9: Leg Kabob | B9: =IF('LAMB Calculator'!X505=0," ",'LAMB Calculator'!X505) | C9: =IF('LAMB Calculator'!Z505=0," ",'LAMB Calculator'!Z505)
A10: Shanks | B10: =IF('LAMB Calculator'!AA505=0," ",'LAMB Calculator'!AA505) | C10: =IF('LAMB Calculator'!AC505=0," ",'LAMB Calculator'!AC505)
A11: Shoulder - Boneless | B11: =IF('LAMB Calculator'!AD505=0," ",'LAMB Calculator'!AD505) | C11: =IF('LAMB Calculator'!AF505=0," ",'LAMB Calculator'!AF505)
A12: Shoulder Bone-In | B12: =IF('LAMB Calculator'!AG505=0," ",'LAMB Calculator'!AG505) | C12: =IF('LAMB Calculator'!AI505=0," ",'LAMB Calculator'!AI505)
A13: Shoulder Steak | B13: =IF('LAMB Calculator'!AJ505=0," ",'LAMB Calculator'!AJ505) | C13: =IF('LAMB Calculator'!AL505=0," ",'LAMB Calculator'!AL505)
A14: Shoulder Kabobs | B14: =IF('LAMB Calculator'!AM505=0," ",'LAMB Calculator'!AM505) | C14: =IF('LAMB Calculator'!AO505=0," ",'LAMB Calculator'!AO505)
A15: Ground | B15: =IF('LAMB Calculator'!AP505=0," ",'LAMB Calculator'!AP505) | C15: =IF('LAMB Calculator'!AR505=0," ",'LAMB Calculator'!AR505)
A16: Stew | B16: =IF('LAMB Calculator'!AS505=0," ",'LAMB Calculator'!AS505) | C16: =IF('LAMB Calculator'!AU505=0," ",'LAMB Calculator'!AU505)
A17: Neck | B17: =IF('LAMB Calculator'!AV505=0," ",'LAMB Calculator'!AV505) | C17: =IF('LAMB Calculator'!AX505=0," ",'LAMB Calculator'!AX505)
A18: Bones | B18: =IF('LAMB Calculator'!AY505=0," ",'LAMB Calculator'!AY505) | C18: =IF('LAMB Calculator'!BA505=0," ",'LAMB Calculator'!BA505)
A19: =('LAMB Calculator'!BB2) -> ADDITIONAL CUT | B19: =IF('LAMB Calculator'!BB505=0," ",'LAMB Calculator'!BB505) | C19: =IF('LAMB Calculator'!BD505=0," ",'LAMB Calculator'!BD505)
A20: =('LAMB Calculator'!BE2) -> ADDITIONAL CUT | B20: =IF('LAMB Calculator'!BE505=0," ",'LAMB Calculator'!BE505) | C20: =IF('LAMB Calculator'!BG505=0," ",'LAMB Calculator'!BG505)
A21: Average Cut Value | C21: =IF('LAMB Calculator'!BH503=0,0,'LAMB Calculator'!BJ503/'LAMB Calculator'!BH503) -> 0
A23: Totals: | B23: =SUM(B3:B20) -> 0 | C23: =SUM(C3:C20) -> 0
B24: Total Gross Revenue: | C24: ='LAMB Calculator'!BJ505 -> 0
A25: Total Production & Marketing Costs: | C25: =('LAMB Calculator'!BK505) -> 0
A26: Total Net Profit: | C26: =C23-C25 -> 0
A27: Average Net profit Per Lamb | C27: =IF(C26=0,0,C26/'LAMB Calculator'!A502) -> 0
A28: Total Lambs | B28: ='LAMB Calculator'!A502 -> 0
A29: Total Live Weight | B29: =('LAMB Calculator'!C505) -> 0 | C29: Lbs
A30: Total Hanging Weight | B30: =('LAMB Calculator'!D505) -> 0 | C30: Lbs
A31: Total Cut Weight (Boxed) | B31: =SUM('LAMB Calculator'!BH505) -> 0 | C31: Lbs
A32: Average Carcass Yield %: | B32: =IF(B29=0,0,B30/B29) -> 0

Sheet PRICING Calculator
B1: PRICING CALCULATOR
B2: LAMB | C2: PROCESS | D2: LIVE | E2: HANGING | F2: Yield % | G2: RACK 204C | J2: DENVER STYLE RIBS 209A | M2: CHOPS 1232A | P2: BONELESS LEG 234A | S2: BONE-IN LEG 233A | V2: LEG STEAK 1233E | Y2: LEG KABOB 295A | AB2: SHANKS 233F/210 | AE2: SHOULDER BNLS 208A | AH2: SHOULDER BONE-IN 207 | AK2: SHOULDER STEAK 1207 | AN2: SHOULDER KABOBS 295A | AQ2: GROUND 296 | AT2: STEW 295 | AW2: NECK N/A | AZ2: BONES N/A | BC2: ADDITIONAL CUT | BF2: ADDITIONAL CUT
C3: DATE | D3: WEIGHT | E3: WEIGHT | G3: LBS | H3: $ per/lb | I3: Cut Value | J3: LBS | K3: $ per/lb | L3: Cut Value | M3: LBS | N3: $ per/lb | O3: Cut Value | P3: LBS | Q3: $ per/lb | R3: Cut Value | S3: LBS | T3: $ per/lb | U3: Cut Value | V3: LBS | W3: $ per/lb | X3: Cut Value | Y3: LBS | Z3: $ per/lb | AA3: Cut Value | AB3: LBS | AC3: $ per/lb | AD3: Cut Value | AE3: LBS | AF3: $ per/lb | AG3: Cut Value | AH3: LBS | AI3: $ per/lb | AJ3: Cut Value | AK3: LBS | AL3: $ per/lb | AM3: Cut Value | AN3: LBS | AO3: $ per/lb | AP3: Cut Value | AQ3: LBS | AR3: $ per/lb | AS3: Cut Value | AT3: LBS | AU3: $ per/lb | AV3: Cut Value | AW3: LBS | AX3: $ per/lb | AY3: Cut Value | AZ3: LBS | BA3: $ per/lb | BB3: Cut Value | BC3: LBS | BD3: $ per/lb | BE3: Cut Value | BF3: LBS | BG3: $ per/lb | BH3: Cut Value
A4: TEST 1 | F4: =IF(E4=0," ",E4/D4) | I4: =IF(G4=0," ",G4*H4) | L4: =IF(J4=0," ",J4*K4) | O4: =IF(M4=0," ",M4*N4) | R4: =IF(P4=0," ",P4*Q4) | U4: =IF(S4=0," ",S4*T4) | X4: =IF(V4=0," ",V4*W4) | AA4: =IF(Y4=0," ",Y4*Z4) | AD4: =IF(AB4=0," ",AB4*AC4) | AG4: =IF(AE4=0," ",AE4*AF4) | AJ4: =IF(AH4=0," ",AH4*AI4) | AM4: =IF(AK4=0," ",AK4*AL4) | AP4: =IF(AN4=0," ",AN4*AO4) | AS4: =IF(AQ4=0," ",AQ4*AR4) | AV4: =IF(AT4=0," ",AT4*AU4) | AY4: =IF(AW4=0," ",AW4*AX4) | BB4: =IF(AZ4=0," ",AZ4*BA4) | BE4: =IF(BC4=0," ",BC4*BD4) | BH4: =IF(BF4=0," ",BF4*BG4)
A5: TEST 2 | F5: =IF(E5=0," ",E5/D5) | I5: =IF(G5=0," ",G5*H5) | L5: =IF(J5=0," ",J5*K5) | O5: =IF(M5=0," ",M5*N5) | R5: =IF(P5=0," ",P5*Q5) | U5: =IF(S5=0," ",S5*T5) | X5: =IF(V5=0," ",V5*W5) | AA5: =IF(Y5=0," ",Y5*Z5) | AD5: =IF(AB5=0," ",AB5*AC5) | AG5: =IF(AE5=0," ",AE5*AF5) | AJ5: =IF(AH5=0," ",AH5*AI5) | AM5: =IF(AK5=0," ",AK5*AL5) | AP5: =IF(AN5=0," ",AN5*AO5) | AS5: =IF(AQ5=0," ",AQ5*AR5) | AV5: =IF(AT5=0," ",AT5*AU5) | AY5: =IF(AW5=0," ",AW5*AX5) | BB5: =IF(AZ5=0," ",AZ5*BA5) | BE5: =IF(BC5=0," ",BC5*BD5) | BH5: =IF(BF5=0," ",BF5*BG5)
F6: =IF(E6=0," ",E6/D6) | I6: =IF(G6=0," ",G6*H6) | L6: =IF(J6=0," ",J6*K6) | O6: =IF(M6=0," ",M6*N6) | R6: =IF(P6=0," ",P6*Q6) | U6: =IF(S6=0," ",S6*T6) | X6: =IF(V6=0," ",V6*W6) | AA6: =IF(Y6=0," ",Y6*Z6) | AD6: =IF(AB6=0," ",AB6*AC6) | AG6: =IF(AE6=0," ",AE6*AF6) | AJ6: =IF(AH6=0," ",AH6*AI6) | AM6: =IF(AK6=0," ",AK6*AL6) | AP6: =IF(AN6=0," ",AN6*AO6) | AS6: =IF(AQ6=0," ",AQ6*AR6) | AV6: =IF(AT6=0," ",AT6*AU6) | AY6: =IF(AW6=0," ",AW6*AX6) | BB6: =IF(AZ6=0," ",AZ6*BA6) | BE6: =IF(BC6=0," ",BC6*BD6) | BH6: =IF(BF6=0," ",BF6*BG6)
B8: TEST TOTALS
B9: BOXED | C9: Cut Out % | D9: Gross $ | E9: Production & | F9: NET
B10: Weight | E10: Market Cost
A11: TEST 1 TOTALS | B11: =IF(SUM(G4+J4+M4+P4+S4+V4+Y4+AB4+AE4+AH4+AK4+AN4+AQ4+AT4+AW4+AZ4+BC4+BF4)=0," ",SUM(G4+J4+M4+P4+S4+V4+Y4+AB4+AE4+AH4+AK4+AN4+AQ4+AT4+AW4+AZ4+BC4+BF4)) | C11: =IF(E4=0,"",B11/E4) | D11: =IF(SUM(I4,L4,O4,R4,U4,X4,AA4,AD4,AG4,AJ4,AM4,AP4,AS4,AV4,AY4,BB4,BE4,BH4)=0,"",SUM(I4,L4,O4,R4,U4,X4,AA4,AD4,AG4,AJ4,AM4,AP4,AS4,AV4,AY4,BB4,BE4,BH4)) | F11: =IF(E11=0,"",D11-E11)
A12: TEST 2 TOTALS | B12: =IF(SUM(G5+J5+M5+P5+S5+V5+Y5+AB5+AE5+AH5+AK5+AN5+AQ5+AT5+AW5+AZ5+BC5+BF5)=0," ",SUM(G5+J5+M5+P5+S5+V5+Y5+AB5+AE5+AH5+AK5+AN5+AQ5+AT5+AW5+AZ5+BC5+BF5)) | D12: =IF(SUM(I5,L5,O5,R5,U5,X5,AA5,AD5,AG5,AJ5,AM5,AP5,AS5,AV5,AY5,BB5,BE5,BH5)=0,"",SUM(I5,L5,O5,R5,U5,X5,AA5,AD5,AG5,AJ5,AM5,AP5,AS5,AV5,AY5,BB5,BE5,BH5)) | F12: =IF(E12=0,"",D12-E12)
B13: =IF(SUM(G6+J6+M6+P6+S6+V6+Y6+AB6+AE6+AH6+AK6+AN6+AQ6+AT6+AW6+AZ6+BC6+BF6)=0," ",SUM(G6+J6+M6+P6+S6+V6+Y6+AB6+AE6+AH6+AK6+AN6+AQ6+AT6+AW6+AZ6+BC6+BF6)) | C13: =IF(E6=0,"",B13/E6) | D13: =IF(SUM(I6,L6,O6,R6,U6,X6,AA6,AD6,AG6,AJ6,AM6,AP6,AS6,AV6,AY6,BB6,BE6,BH6)=0,"",SUM(I6,L6,O6,R6,U6,X6,AA6,AD6,AG6,AJ6,AM6,AP6,AS6,AV6,AY6,BB6,BE6,BH6)) | F13: =IF(E13=0,"",D13-E13)
